BEGIN:VCALENDAR
VERSION:2.0
PRODID:-//199.91.126.112//NONSGML kigkonsult.se iCalcreator 2.20//
CALSCALE:GREGORIAN
METHOD:PUBLISH
X-FROM-URL:http://smartrecovery.ie
X-WR-TIMEZONE:Europe/Dublin
BEGIN:VTIMEZONE
TZID:Europe/Dublin
X-LIC-LOCATION:Europe/Dublin
BEGIN:STANDARD
DTSTART:20171029T020000
TZOFFSETFROM:+0100
TZOFFSETTO:+0000
TZNAME:GMT
END:STANDARD
BEGIN:DAYLIGHT
DTSTART:20180325T010000
TZOFFSETFROM:+0000
TZOFFSETTO:+0100
TZNAME:IST
END:DAYLIGHT
END:VTIMEZONE
BEGIN:VEVENT
UID:ai1ec-245@smartrecovery.ie/wp
DTSTAMP:20171106T081215Z
CATEGORIES:
CONTACT:John Devlin\; 00353 87 2024061
DESCRIPTION:
DTSTART;TZID=Europe/Dublin:20160503T190000
DTEND;TZID=Europe/Dublin:20160503T200000
GEO:+52.201509;-7.153512
LOCATION:Millenium Community Building @ Lisduggan\, Co. Waterford\, Ireland
RRULE:FREQ=WEEKLY;BYDAY=TU;WKST=SU
SEQUENCE:0
SUMMARY:Waterford Closed Meeting
URL:http://smartrecovery.ie/event/waterford-closed-meeting-2/
X-COST-TYPE:free
END:VEVENT
BEGIN:VEVENT
UID:ai1ec-215@smartrecovery.ie/wp
DTSTAMP:20171106T081215Z
CATEGORIES:
CONTACT:John Farrell (F)\; +353 1 626 4899\; info@MattTalbot.org
DESCRIPTION:
DTSTART;TZID=Europe/Dublin:20160523T113000
DTEND;TZID=Europe/Dublin:20160523T123000
GEO:+53.342251;-6.35356
LOCATION:Matt Talbot Community Trust @ Ballyfermot\, Co. Dublin\, Ireland
RRULE:FREQ=WEEKLY
SEQUENCE:0
SUMMARY:Ballyfermot Closed Meeting
URL:http://smartrecovery.ie/event/215/
X-COST-TYPE:free
END:VEVENT
BEGIN:VEVENT
UID:ai1ec-242@smartrecovery.ie/wp
DTSTAMP:20171106T081215Z
CATEGORIES:
CONTACT:Sarah Hearne\; 00353 868561641.
DESCRIPTION:
DTSTART;TZID=Europe/Dublin:20160530T193000
DTEND;TZID=Europe/Dublin:20160530T203000
GEO:+52.254354;-7.114319
LOCATION:Edmund Rice Youth & Community Multiplex @ Manor St\, Waterford\, I
 reland
RRULE:FREQ=WEEKLY;BYDAY=MO;WKST=SU
SEQUENCE:0
SUMMARY:Waterford Closed Meeting
URL:http://smartrecovery.ie/event/waterford-closed-meeting/
X-COST-TYPE:free
END:VEVENT
BEGIN:VEVENT
UID:ai1ec-250@smartrecovery.ie/wp
DTSTAMP:20171106T081215Z
CATEGORIES:
CONTACT:Katie Flynn\; 00353 01 2764692
DESCRIPTION:
DTSTART;TZID=Europe/Dublin:20160531T110000
DTEND;TZID=Europe/Dublin:20160531T123000
GEO:+55.721935;-3.818738
LOCATION:Bray Community Addiction Team @ Boghall Rd\, Carluke\, South Lanar
 kshire ML8\, UK
RRULE:FREQ=WEEKLY;BYDAY=TU;WKST=SU
SEQUENCE:0
SUMMARY:Bray Closed Meeting
URL:http://smartrecovery.ie/event/bray-closed-meeting/
X-COST-TYPE:free
END:VEVENT
BEGIN:VEVENT
UID:ai1ec-244@smartrecovery.ie/wp
DTSTAMP:20171106T081215Z
CATEGORIES:
CONTACT:Vincent Rellis \; 00353 1 813 1786
DESCRIPTION:
DTSTART;TZID=Europe/Dublin:20160531T181500
DTEND;TZID=Europe/Dublin:20160531T191500
GEO:+53.457453;-6.220509
LOCATION:North Dublin Community Care Service @ Swords Town Centre\, Main St
 \, Swords Demesne\, Swords\, Co. Dublin\, Ireland
RRULE:FREQ=WEEKLY;BYDAY=TU;WKST=SU
SEQUENCE:0
SUMMARY:Swords Closed Meeting
URL:http://smartrecovery.ie/event/swords-closed-meeting/
X-COST-TYPE:free
END:VEVENT
BEGIN:VEVENT
UID:ai1ec-252@smartrecovery.ie/wp
DTSTAMP:20171106T081215Z
CATEGORIES:
CONTACT:Elaine Forsythe \; 00353 1 2745630
DESCRIPTION:
DTSTART;TZID=Europe/Dublin:20160531T183000
DTEND;TZID=Europe/Dublin:20160531T200000
GEO:+53.209992;-6.116509
LOCATION:Bray Community Addiction Team  @ 9 Dublin Rd\, Little Bray\, Bray\
 , Co. Wicklow\, Ireland
RRULE:FREQ=WEEKLY;BYDAY=TU;WKST=SU
SEQUENCE:0
SUMMARY:Bray Open Meeting
URL:http://smartrecovery.ie/event/bray-open-meeting-2/
X-COST-TYPE:free
END:VEVENT
BEGIN:VEVENT
UID:ai1ec-249@smartrecovery.ie/wp
DTSTAMP:20171106T081215Z
CATEGORIES:
CONTACT:Gillian Mc Cutcheon \; 00353 1 2764692
DESCRIPTION:
DTSTART;TZID=Europe/Dublin:20160531T183000
DTEND;TZID=Europe/Dublin:20160531T200000
GEO:+53.209713;-6.115826
LOCATION:Bray Community Addiction Team @ 4 Dublin Rd\, Little Bray\, Bray\,
  Co. Wicklow\, Ireland
RRULE:FREQ=WEEKLY;BYDAY=TU;WKST=SU
SEQUENCE:0
SUMMARY:Bray Women Only Open Meeting
URL:http://smartrecovery.ie/event/bray-women-only-open-meeting/
X-COST-TYPE:free
END:VEVENT
BEGIN:VEVENT
UID:ai1ec-231@smartrecovery.ie/wp
DTSTAMP:20171106T081215Z
CATEGORIES:
CONTACT:Norah Byrne\; 086 8060421
DESCRIPTION:
DTSTART;TZID=Europe/Dublin:20160531T183000
DTEND;TZID=Europe/Dublin:20160531T200000
GEO:+53.338879;-6.321826
LOCATION:Inchicore Basketball Club @ 8 Tyrconnell Rd\, Inchicore\, Dublin\,
  Ireland
RRULE:FREQ=WEEKLY;BYDAY=TU;WKST=SU
SEQUENCE:0
SUMMARY:Inchicore Open Meeting
URL:http://smartrecovery.ie/event/dublin-8-open-meeting/
X-COST-TYPE:free
END:VEVENT
BEGIN:VEVENT
UID:ai1ec-243@smartrecovery.ie/wp
DTSTAMP:20171106T081215Z
CATEGORIES:
CONTACT:Angie Howell \; 00353 86 8284108
DESCRIPTION:
DTSTART;TZID=Europe/Dublin:20160601T113000
DTEND;TZID=Europe/Dublin:20160601T130000
GEO:+52.797554;-6.160525
LOCATION:HSE Addiction Service @ 9 Upper Main St\, Arklow\, Arklow\, Co. Wi
 cklow\, Ireland
RRULE:FREQ=WEEKLY;BYDAY=WE;WKST=SU
SEQUENCE:0
SUMMARY:Arklow Open Meeting
URL:http://smartrecovery.ie/event/arklow-open-meeting/
X-COST-TYPE:free
END:VEVENT
BEGIN:VEVENT
UID:ai1ec-251@smartrecovery.ie/wp
DTSTAMP:20171106T081215Z
CATEGORIES:
CONTACT:Jill O Neill\; 00353 1 2745630
DESCRIPTION:
DTSTART;TZID=Europe/Dublin:20160601T130000
DTEND;TZID=Europe/Dublin:20160601T140000
GEO:+53.210304;-6.11707
LOCATION:Bray Community Addiction Team @ 4 Dublin Rd\, Little Bray\, Bray\,
  Co. Wicklow\, Ireland
RRULE:FREQ=WEEKLY;BYDAY=WE;WKST=SU
SEQUENCE:0
SUMMARY:Bray Open Meeting
URL:http://smartrecovery.ie/event/bray-open-meeting/
X-COST-TYPE:free
END:VEVENT
BEGIN:VEVENT
UID:ai1ec-240@smartrecovery.ie/wp
DTSTAMP:20171106T081215Z
CATEGORIES:
CONTACT:Alan Duff\; 00353 42 9338221
DESCRIPTION:
DTSTART;TZID=Europe/Dublin:20160601T170000
DTEND;TZID=Europe/Dublin:20160601T180000
GEO:+54.004865;-6.402286
LOCATION:Turas Counsseling Services @ 59 Clanbrassil St\, Townparks\, Dunda
 lk\, Co. Louth\, Ireland
RRULE:FREQ=WEEKLY;BYDAY=WE;WKST=SU
SEQUENCE:0
SUMMARY:Dundalk Closed Meeting
URL:http://smartrecovery.ie/event/dundalk-closed-meeting/
X-COST-TYPE:free
END:VEVENT
BEGIN:VEVENT
UID:ai1ec-241@smartrecovery.ie/wp
DTSTAMP:20171106T081215Z
CATEGORIES:
CONTACT:Audrey Casey \; 00353 567794565
DESCRIPTION:
DTSTART;TZID=Europe/Dublin:20160601T110000
DTEND;TZID=Europe/Dublin:20160601T120000
GEO:+52.651916;-7.254406
LOCATION:Involvement Centre @ Collier's Ln\, Gardens\, Kilkenny\, Ireland
RRULE:FREQ=WEEKLY;BYDAY=WE;WKST=SU
SEQUENCE:0
SUMMARY:Kilkenny Open Meeting
URL:http://smartrecovery.ie/event/kilkenny-open-meeting-2/
X-COST-TYPE:free
END:VEVENT
BEGIN:VEVENT
UID:ai1ec-237@smartrecovery.ie/wp
DTSTAMP:20171106T081215Z
CATEGORIES:
CONTACT:Jennifer Mc Casey \; 00353 1 8314985
DESCRIPTION:
DTSTART;TZID=Europe/Dublin:20160602T100000
GEO:+53.375632;-6.21945
LOCATION:Dollycarney Youth Project @ 5 Collins Ave\, Clontarf\, Dublin 9\, 
 Ireland
RRULE:FREQ=WEEKLY;BYDAY=TH;WKST=SU
SEQUENCE:0
SUMMARY:Dollycarney Closed Meeting
URL:http://smartrecovery.ie/event/dollycarney-closed-meeting/
X-COST-TYPE:free
X-INSTANT-EVENT:1
END:VEVENT
BEGIN:VEVENT
UID:ai1ec-246@smartrecovery.ie/wp
DTSTAMP:20171106T081215Z
CATEGORIES:
CONTACT:Padraic Hanly\; 00353 59 91 513 69
DESCRIPTION:
DTSTART;TZID=Europe/Dublin:20160602T100000
DTEND;TZID=Europe/Dublin:20160602T110000
GEO:+52.802547;-6.737152
LOCATION:Francis Farm  @ Tullow\, Co. Carlow\, Ireland
RRULE:FREQ=WEEKLY;BYDAY=TH;WKST=SU
SEQUENCE:0
SUMMARY:Tullow\, Carlow Closed Meeting
URL:http://smartrecovery.ie/event/tullow-carlow-closed-meeting/
X-COST-TYPE:free
END:VEVENT
BEGIN:VEVENT
UID:ai1ec-234@smartrecovery.ie/wp
DTSTAMP:20171106T081215Z
CATEGORIES:
CONTACT:Maureen Walsh\; 0035351 645775
DESCRIPTION:
DTSTART;TZID=Europe/Dublin:20160602T163000
DTEND;TZID=Europe/Dublin:20160602T173000
GEO:+52.347397;-7.410174
LOCATION:Suir Valley Community Based Drugs Initiative @ 56 New St\, Knockna
 connery\, Carrick-On-Suir\, Co. Tipperary\, Ireland
RRULE:FREQ=WEEKLY;BYDAY=TH;WKST=SU
SEQUENCE:0
SUMMARY:Carrick on Suir Closed Meeting
URL:http://smartrecovery.ie/event/carrick-on-suir-closed-meeting/
X-COST-TYPE:free
END:VEVENT
BEGIN:VEVENT
UID:ai1ec-253@smartrecovery.ie/wp
DTSTAMP:20171106T081215Z
CATEGORIES:
CONTACT:Elaine Forsyth\; 00353 12745630
DESCRIPTION:
DTSTART;TZID=Europe/Dublin:20160602T183000
DTEND;TZID=Europe/Dublin:20160602T200000
GEO:+53.210304;-6.11707
LOCATION:Bray Community Addiction Team @ 4 Dublin Rd\, Little Bray\, Bray\,
  Co. Wicklow\, Ireland
RRULE:FREQ=WEEKLY;BYDAY=TH;WKST=SU
SEQUENCE:0
SUMMARY:Bray Open Meeting
URL:http://smartrecovery.ie/event/bray-closed-meeting-2/
X-COST-TYPE:free
END:VEVENT
BEGIN:VEVENT
UID:ai1ec-229@smartrecovery.ie/wp
DTSTAMP:20171106T081215Z
CATEGORIES:
CONTACT:Darren O Brien\; 086 171 5334
DESCRIPTION:
DTSTART;TZID=Europe/Dublin:20160602T190000
GEO:+53.945188;-8.085522
LOCATION:Breffini Resource Centre  @ Carrick-On-Shannon\, Co. Leitrim\, Ire
 land
RRULE:FREQ=WEEKLY;BYDAY=MO;WKST=SU
SEQUENCE:0
SUMMARY:Carrick on Shannon Open Meeting
URL:http://smartrecovery.ie/event/carrick-on-shannon-open-meeting/
X-COST-TYPE:free
X-INSTANT-EVENT:1
END:VEVENT
BEGIN:VEVENT
UID:ai1ec-238@smartrecovery.ie/wp
DTSTAMP:20171106T081215Z
CATEGORIES:
CONTACT:Gerry Ryan\; 003531 640 5847
DESCRIPTION:
DTSTART;TZID=Europe/Dublin:20160602T190000
DTEND;TZID=Europe/Dublin:20160602T200000
LOCATION:Tolka River Project  @ Buzzardstown House\, Buzzardstown Campus\, 
 Dublin 15
RRULE:FREQ=WEEKLY;BYDAY=TH;WKST=SU
SEQUENCE:0
SUMMARY:Dublin 15 Closed Meeting
URL:http://smartrecovery.ie/event/dublin-15-closed-meeting/
X-COST-TYPE:free
END:VEVENT
BEGIN:VEVENT
UID:ai1ec-235@smartrecovery.ie/wp
DTSTAMP:20171106T081215Z
CATEGORIES:
CONTACT:Michael Walsh\; 003531 4265970
DESCRIPTION:
DTSTART;TZID=Europe/Dublin:20160603T103000
DTEND;TZID=Europe/Dublin:20160603T113000
GEO:+53.331593;-6.340641
LOCATION:Bluebell Community Centre @ 1 Canal Terrace\, Inchicore\, Dublin 1
 2\, Ireland
RRULE:FREQ=WEEKLY;BYDAY=FR;WKST=SU
SEQUENCE:0
SUMMARY:Dublin 12 Male Only Open Meeting
URL:http://smartrecovery.ie/event/dublin-12-male-only-open-meeting/
X-COST-TYPE:free
END:VEVENT
BEGIN:VEVENT
UID:ai1ec-239@smartrecovery.ie/wp
DTSTAMP:20171106T081215Z
CATEGORIES:
CONTACT:Sean Cullen\; 086 8284108
DESCRIPTION:
DTSTART;TZID=Europe/Dublin:20160603T110000
DTEND;TZID=Europe/Dublin:20160603T120000
GEO:+53.291269;-6.137534
LOCATION:HSE Patrick Street Addiction Centre\, @ 99 Patrick St\, Dún Laogha
 ire\, Dublin\, Ireland
RRULE:FREQ=WEEKLY;BYDAY=FR;WKST=SU
SEQUENCE:0
SUMMARY:Dun Laoghaire Closed Meeting
URL:http://smartrecovery.ie/event/dun-laoghaire-closed-meeting/
X-COST-TYPE:free
END:VEVENT
BEGIN:VEVENT
UID:ai1ec-230@smartrecovery.ie/wp
DTSTAMP:20171106T081215Z
CATEGORIES:
CONTACT:Mark Gannon\; 003531 4575556
DESCRIPTION:
DTSTART;TZID=Europe/Dublin:20160606T100000
DTEND;TZID=Europe/Dublin:20160606T113000
GEO:+53.331293;-6.39477
LOCATION:Station 1 Rehab @ Station Road Business Park\, Ballymanaggin\, Dub
 lin 22\, Ireland
RRULE:FREQ=WEEKLY;BYDAY=MO;WKST=SU
SEQUENCE:0
SUMMARY:Clondalkin Closed Meeting
URL:http://smartrecovery.ie/event/clondalkin-closed-meeting/
X-COST-TYPE:free
END:VEVENT
BEGIN:VEVENT
UID:ai1ec-227@smartrecovery.ie/wp
DTSTAMP:20171106T081215Z
CATEGORIES:
CONTACT:Mel Bay\; 00353879845019\; mel.bay@hse.ie
DESCRIPTION:
DTSTART;TZID=Europe/Dublin:20160606T190000
DTEND;TZID=Europe/Dublin:20160606T200000
GEO:+52.651916;-7.254406
LOCATION:Kilkenny Involvement Cenr @ Collier's Ln\, Gardens\, Kilkenny\, Ir
 eland
RRULE:FREQ=WEEKLY;BYDAY=MO;WKST=SU
SEQUENCE:0
SUMMARY:Kilkenny Open Meeting
URL:http://smartrecovery.ie/event/kilkenny-open-meeting/
X-COST-TYPE:free
END:VEVENT
BEGIN:VEVENT
UID:ai1ec-279@smartrecovery.ie/wp
DTSTAMP:20171106T081215Z
CATEGORIES:
CONTACT:Steven Mitchell\; 01-5240154
DESCRIPTION:
DTSTART;TZID=Europe/Dublin:20160905T190000
DTEND;TZID=Europe/Dublin:20160905T203000
GEO:+53.333279;-6.291988
LOCATION:Merchants Quay Ireland @ 7 Dolphin's Barn\, Ushers\, Dublin 8\, Ir
 eland
RRULE:FREQ=WEEKLY;BYDAY=MO;WKST=SU
SEQUENCE:0
SUMMARY:Merchants Quay Day Programme Closed meeting
URL:http://smartrecovery.ie/event/merchants-quay-day-programme-closed-meeti
 ng/
X-COST-TYPE:free
END:VEVENT
BEGIN:VEVENT
UID:ai1ec-296@smartrecovery.ie/wp
DTSTAMP:20171106T081215Z
CATEGORIES:
CONTACT:Barbara Reid\; 0402 33898\; cescheme@tiglin.ie
DESCRIPTION:
DTSTART;TZID=Europe/Dublin:20160908T100000
DTEND;TZID=Europe/Dublin:20160908T120000
GEO:+52.797032;-6.162326
LOCATION:Tiglin Day Service  @ 1A Wexford Rd\, Arklow\, Co. Wicklow\, Irela
 nd
RRULE:FREQ=WEEKLY;BYDAY=TH;WKST=SU
SEQUENCE:0
SUMMARY:Tiglin Day Service Closed Meeting
URL:http://smartrecovery.ie/event/tiglin-day-service-closed-meeting/
X-COST-TYPE:free
END:VEVENT
BEGIN:VEVENT
UID:ai1ec-349@smartrecovery.ie/wp
DTSTAMP:20171106T081215Z
CATEGORIES:
CONTACT:Tom Needham\; (052) 6177900
DESCRIPTION:
DTSTART;TZID=Europe/Dublin:20161010T180000
DTEND;TZID=Europe/Dublin:20161010T191500
GEO:+52.355817;-7.690255
LOCATION:HSE Substance Misuse Service Clonmel @ Clonmel\, Co. Tipperary\, I
 reland
RRULE:FREQ=WEEKLY
SEQUENCE:0
SUMMARY:Clonmel closed meeting
URL:http://smartrecovery.ie/event/clonmel-closed-meeting/
X-COST-TYPE:free
END:VEVENT
BEGIN:VEVENT
UID:ai1ec-367@smartrecovery.ie/wp
DTSTAMP:20171106T081215Z
CATEGORIES:
CONTACT:Steven \; 049 437 9160
DESCRIPTION:
DTSTART;TZID=Europe/Dublin:20161103T113000
DTEND;TZID=Europe/Dublin:20161103T130000
LOCATION:Cavan\\Monaghan Drug and Alcohol Service @ Acot House\, Drumnavang
 h\, Farnham Road\, Cavan.
RRULE:FREQ=WEEKLY;BYDAY=TH;WKST=SU
SEQUENCE:0
SUMMARY:Cavan Closed Meeting
URL:http://smartrecovery.ie/event/cavan-closed-meeting/
X-COST-TYPE:free
END:VEVENT
BEGIN:VEVENT
UID:ai1ec-356@smartrecovery.ie/wp
DTSTAMP:20171106T081215Z
CATEGORIES:
CONTACT:Norah Byrne\; 086 806 0421
DESCRIPTION:
DTSTART;TZID=Europe/Dublin:20161114T110000
DTEND;TZID=Europe/Dublin:20161114T120000
GEO:+53.337581;-6.325883
LOCATION:Communities Regional Addiction Service @ Tyrconnell Rd\, Dublin 8\
 , Ireland
RRULE:FREQ=WEEKLY;BYDAY=MO;WKST=SU
SEQUENCE:0
SUMMARY:Inchicore Women’s Only Group Open
URL:http://smartrecovery.ie/event/inchicore-womens-only-group-open/
X-COST-TYPE:free
END:VEVENT
BEGIN:VEVENT
UID:ai1ec-360@smartrecovery.ie/wp
DTSTAMP:20171106T081215Z
CATEGORIES:
CONTACT:Katie/Riadhna\; 0876068591
DESCRIPTION:
DTSTART;TZID=Europe/Dublin:20161116T153000
DTEND;TZID=Europe/Dublin:20161116T170000
GEO:+53.209713;-6.115826
LOCATION:Bray Community Addiction Team @ 4 Dublin Rd\, Little Bray\, Bray\,
  Co. Wicklow\, Ireland
RRULE:FREQ=WEEKLY
SEQUENCE:0
SUMMARY:Bray Young Person’s SR Open Meeting
URL:http://smartrecovery.ie/event/bray-young-persons-sr-open-meeting/
X-COST-TYPE:free
END:VEVENT
BEGIN:VEVENT
UID:ai1ec-365@smartrecovery.ie/wp
DTSTAMP:20171106T081215Z
CATEGORIES:
CONTACT:Jason Farrell\; 01 6206050
DESCRIPTION:
DTSTART;TZID=Europe/Dublin:20161206T143000
DTEND;TZID=Europe/Dublin:20161206T160000
LOCATION:Cuan Dara @ Cherry Orchard Hospital\, Dublin 10
RRULE:FREQ=WEEKLY;BYDAY=TU;WKST=SU
SEQUENCE:0
SUMMARY:Cuan Dara\, Dublin 10. Closed meeting
URL:http://smartrecovery.ie/event/cuan-dara-dublin-10-closed-meeting/
X-COST-TYPE:free
END:VEVENT
BEGIN:VEVENT
UID:ai1ec-382@smartrecovery.ie/wp
DTSTAMP:20171106T081215Z
CATEGORIES:
CONTACT:Mel Bay\;  00353879845019
DESCRIPTION:
DTSTART;TZID=Europe/Dublin:20170120T120000
DTEND;TZID=Europe/Dublin:20170120T133000
GEO:+52.805467;-7.209545
LOCATION:Castlecomer Community Hall\, @ Castlecomer\, Co. Kilkenny\, Irelan
 d
RRULE:FREQ=WEEKLY;BYDAY=FR;WKST=SU
SEQUENCE:0
SUMMARY:Castlecomer Open Meeting
URL:http://smartrecovery.ie/event/castlecomer-open-meeting/
X-COST-TYPE:free
END:VEVENT
BEGIN:VEVENT
UID:ai1ec-385@smartrecovery.ie/wp
DTSTAMP:20171106T081215Z
CATEGORIES:
CONTACT:01 4198630
DESCRIPTION:
DTSTART;TZID=Europe/Dublin:20170208T123000
DTEND;TZID=Europe/Dublin:20170208T133000
GEO:+53.322171;-6.341594
LOCATION:Walkinstown Greenhills Resource Centre @ 14 D12\, Unit 12\, Bridge
 court Office Park\, Walkinstown Ave\, Dublin 12\, Ireland
RRULE:FREQ=WEEKLY;BYDAY=WE;WKST=SU
SEQUENCE:0
SUMMARY:D12 Mens Only Group Open
URL:http://smartrecovery.ie/event/d12-mens-only-group-open/
X-COST-TYPE:free
END:VEVENT
BEGIN:VEVENT
UID:ai1ec-384@smartrecovery.ie/wp
DTSTAMP:20171106T081215Z
CATEGORIES:
CONTACT:Celine Maurer\; 01 4113222.
DESCRIPTION:
DTSTART;TZID=Europe/Dublin:20170208T123000
DTEND;TZID=Europe/Dublin:20170208T133000
LOCATION:Addiction Response Crumlin\,  @ 16A Sunshine Estate\, Crumlin Road
 \, D12.
RRULE:FREQ=WEEKLY;BYDAY=WE;WKST=SU
SEQUENCE:0
SUMMARY:D12 Women’s Only Group
URL:http://smartrecovery.ie/event/d12-womens-only-group/
X-COST-TYPE:free
END:VEVENT
BEGIN:VEVENT
UID:ai1ec-402@smartrecovery.ie/wp
DTSTAMP:20171106T081215Z
CATEGORIES:
CONTACT:Jay Collins\; 087 9676439
DESCRIPTION:
DTSTART;TZID=Europe/Dublin:20170306T183000
DTEND;TZID=Europe/Dublin:20170306T200000
LOCATION:Dungarvan Youth & Community Centre  @ Rinnasillogue\, Dungarvan\, 
 Co Waterford
RRULE:FREQ=WEEKLY
SEQUENCE:0
SUMMARY:Dungarvan Closed Meeting
URL:http://smartrecovery.ie/event/dungarvan-closed-meeting/
X-COST-TYPE:free
END:VEVENT
BEGIN:VEVENT
UID:ai1ec-399@smartrecovery.ie/wp
DTSTAMP:20171106T081215Z
CATEGORIES:
CONTACT:Emmet Major\; 087 6629953
DESCRIPTION:
DTSTART;TZID=Europe/Dublin:20170316T193000
DTEND;TZID=Europe/Dublin:20170316T210000
GEO:+53.27132;-9.056703
LOCATION:64 Dominick Street Lower\, Galway\, H91 D43E\, Ireland
RRULE:FREQ=WEEKLY;BYDAY=TH;WKST=SU
SEQUENCE:0
SUMMARY:Galway City Open Meeting
URL:http://smartrecovery.ie/event/galway-city-open-meeting/
X-COST-TYPE:free
END:VEVENT
BEGIN:VEVENT
UID:ai1ec-416@smartrecovery.ie/wp
DTSTAMP:20171106T081215Z
CATEGORIES:
CONTACT:Christy \; 087-901 9351
DESCRIPTION:
DTSTART;TZID=Europe/Dublin:20170504T150000
DTEND;TZID=Europe/Dublin:20170504T163000
GEO:+53.203399;-6.10973
LOCATION:Bray Travellers  Community Development Group ltd @ 97 Main St\, Br
 ay\, Co. Wicklow\, A98 V0V8\, Ireland
RDATE;TZID=Europe/Dublin:20170504T150000
SEQUENCE:0
SUMMARY:Bray Traveller Group
URL:http://smartrecovery.ie/event/bray-traveller-group/
X-COST-TYPE:free
END:VEVENT
BEGIN:VEVENT
UID:ai1ec-444@smartrecovery.ie/wp
DTSTAMP:20171106T081215Z
CATEGORIES:
CONTACT:Fiona Murphy\; 087 2742129
DESCRIPTION:
DTSTART;TZID=Europe/Dublin:20170619T190000
DTEND;TZID=Europe/Dublin:20170619T203000
GEO:+53.289318;-6.402311
LOCATION:BASP Brookfield Community Centre @ Brookview Cl\, Brookfield\, Dub
 lin\, Ireland
RRULE:FREQ=WEEKLY;BYDAY=MO;WKST=SU
SEQUENCE:0
SUMMARY:Tallaght Open Meeting
URL:http://smartrecovery.ie/event/tallaght-open-meeting/
X-COST-TYPE:free
END:VEVENT
BEGIN:VEVENT
UID:ai1ec-445@smartrecovery.ie/wp
DTSTAMP:20171106T081215Z
CATEGORIES:
CONTACT:AIsling Holland\;   087 228 3888
DESCRIPTION:
DTSTART;TZID=Europe/Dublin:20170706T140000
DTEND;TZID=Europe/Dublin:20170706T153000
GEO:+53.331593;-6.340641
LOCATION:Bluebell Community Centre @ 1 Canal Terrace\, Inchicore\, Dublin 1
 2\, D12 TY03\, Ireland
RRULE:FREQ=WEEKLY;BYDAY=TH;WKST=SU
SEQUENCE:0
SUMMARY:Women’s Only Group Inchicore
URL:http://smartrecovery.ie/event/womens-only-group-inchicore/
X-COST-TYPE:free
END:VEVENT
BEGIN:VEVENT
UID:ai1ec-372@smartrecovery.ie/wp
DTSTAMP:20171106T081215Z
CATEGORIES:
CONTACT:Niamh Tormey\; 045 488 670
DESCRIPTION:
DTSTART;TZID=Europe/Dublin:20170811T180000
DTEND;TZID=Europe/Dublin:20170811T193000
GEO:+53.180915;-6.79715
LOCATION:Aras Newbridge  @ Main St\, Kilbelin\, Newbridge\, Co. Kildare\, I
 reland
RRULE:FREQ=WEEKLY;BYDAY=WE;WKST=SU
SEQUENCE:0
SUMMARY:Newbridge Closed Meeting
URL:http://smartrecovery.ie/event/newbridge-closed-meeting/
X-COST-TYPE:free
END:VEVENT
BEGIN:VEVENT
UID:ai1ec-565@smartrecovery.ie/wp
DTSTAMP:20171106T081215Z
CATEGORIES:
CONTACT:Billy Barnett\;  087 7078166
DESCRIPTION:
DTSTART;TZID=Europe/Dublin:20171025T140000
DTEND;TZID=Europe/Dublin:20171025T144500
GEO:+53.01079;-6.108289
LOCATION:Tiglin Women's Centre  @ Ashford\, Co. Wicklow\, Ireland
RRULE:FREQ=WEEKLY;BYDAY=TH;WKST=SU
SEQUENCE:0
SUMMARY:Tiglin Women’s Centre Closed Meeting
URL:http://smartrecovery.ie/event/tiglin-womens-centre-closed-meeting/
X-COST-TYPE:free
END:VEVENT
BEGIN:VEVENT
UID:ai1ec-564@smartrecovery.ie/wp
DTSTAMP:20171106T081215Z
CATEGORIES:
CONTACT:Ann Lacey\; 087 9351754
DESCRIPTION:
DTSTART;TZID=Europe/Dublin:20171027T103000
DTEND;TZID=Europe/Dublin:20171027T120000
LOCATION:FDYS @  The Shambles\, Mary Street\, New Ross
RRULE:FREQ=WEEKLY;BYDAY=FR;WKST=SU
SEQUENCE:0
SUMMARY:New Ross County Wexford Meeting
URL:http://smartrecovery.ie/event/new-ross-county-wexford-meeting/
X-COST-TYPE:free
END:VEVENT
BEGIN:VEVENT
UID:ai1ec-563@smartrecovery.ie/wp
DTSTAMP:20171106T081215Z
CATEGORIES:
CONTACT:John Paul O’Neill \; 085 8053978
DESCRIPTION:
DTSTART;TZID=Europe/Dublin:20171030T180000
DTEND;TZID=Europe/Dublin:20171030T190000
GEO:+52.5038;-6.5691
LOCATION:FDYS Enniscorthy Community Project @ Island Rd\, Templeshannon\, E
 nniscorthy\, Co. Wexford\, Ireland
RRULE:FREQ=WEEKLY
SEQUENCE:0
SUMMARY:Enniscorthy\, Co. Wexford Meeting
URL:http://smartrecovery.ie/event/enniscorthy-co-wexford-meeting/
X-COST-TYPE:free
END:VEVENT
BEGIN:VEVENT
UID:ai1ec-371@smartrecovery.ie/wp
DTSTAMP:20171106T081215Z
CATEGORIES:
CONTACT:NIamh Tormey \; (045) 488 670
DESCRIPTION:
DTSTART;TZID=Europe/Dublin:20171106T180000
DTEND;TZID=Europe/Dublin:20171106T193000
GEO:+53.180915;-6.79715
LOCATION:Aras Newbridge  @ Main St\, Newbridge\, Co. Kildare\, Ireland
RRULE:FREQ=WEEKLY;BYDAY=MO;WKST=SU
SEQUENCE:0
SUMMARY:Newbridge Closed Meeting
URL:http://smartrecovery.ie/event/celbridge-closed-meeting/
X-COST-TYPE:free
END:VEVENT
END:VCALENDAR
